BEGIN:VCALENDAR
VERSION:2.0
PRODID:-//Hegedüs Géza Városi Könyvtár Szigethalom - ECPv6.15.11//NONSGML v1.0//EN
CALSCALE:GREGORIAN
METHOD:PUBLISH
X-ORIGINAL-URL:http://hgvk.hu
X-WR-CALDESC:Események Hegedüs Géza Városi Könyvtár Szigethalom
REFRESH-INTERVAL;VALUE=DURATION:PT1H
X-Robots-Tag:noindex
X-PUBLISHED-TTL:PT1H
BEGIN:VTIMEZONE
TZID:Europe/Budapest
BEGIN:DAYLIGHT
TZOFFSETFROM:+0100
TZOFFSETTO:+0200
TZNAME:CEST
DTSTART:20230326T010000
END:DAYLIGHT
BEGIN:STANDARD
TZOFFSETFROM:+0200
TZOFFSETTO:+0100
TZNAME:CET
DTSTART:20231029T010000
END:STANDARD
BEGIN:DAYLIGHT
TZOFFSETFROM:+0100
TZOFFSETTO:+0200
TZNAME:CEST
DTSTART:20240331T010000
END:DAYLIGHT
BEGIN:STANDARD
TZOFFSETFROM:+0200
TZOFFSETTO:+0100
TZNAME:CET
DTSTART:20241027T010000
END:STANDARD
BEGIN:DAYLIGHT
TZOFFSETFROM:+0100
TZOFFSETTO:+0200
TZNAME:CEST
DTSTART:20250330T010000
END:DAYLIGHT
BEGIN:STANDARD
TZOFFSETFROM:+0200
TZOFFSETTO:+0100
TZNAME:CET
DTSTART:20251026T010000
END:STANDARD
END:VTIMEZONE
BEGIN:VEVENT
DTSTART;TZID=Europe/Budapest:20240430T173000
DTEND;TZID=Europe/Budapest:20240430T200000
DTSTAMP:20260421T100013
CREATED:20240417T100043Z
LAST-MODIFIED:20240417T104737Z
UID:2471-1714498200-1714507200@hgvk.hu
SUMMARY:A nagy háború nagyasszonyai
DESCRIPTION:
URL:http://hgvk.hu/event/a-nagy-haboru-nagyasszonyai/
ATTACH;FMTTYPE=image/jpeg:http://hgvk.hu/wp-content/uploads/2024/04/A-Nagy-Haboru-Nagyasszonyai-plakat-scaled.jpg
END:VEVENT
BEGIN:VEVENT
DTSTART;TZID=Europe/Budapest:20240425T170000
DTEND;TZID=Europe/Budapest:20240601T170000
DTSTAMP:20260421T100013
CREATED:20240417T095834Z
LAST-MODIFIED:20240417T095834Z
UID:2468-1714064400-1717261200@hgvk.hu
SUMMARY:Fotó kiállítás
DESCRIPTION:
URL:http://hgvk.hu/event/foto-kiallitas/
ATTACH;FMTTYPE=image/jpeg:http://hgvk.hu/wp-content/uploads/2024/04/Fotokiallitas.jpg
END:VEVENT
BEGIN:VEVENT
DTSTART;TZID=Europe/Budapest:20240425T163000
DTEND;TZID=Europe/Budapest:20240425T180000
DTSTAMP:20260421T100013
CREATED:20240417T095619Z
LAST-MODIFIED:20240417T095619Z
UID:2465-1714062600-1714068000@hgvk.hu
SUMMARY:Könyvtári Könyvklub
DESCRIPTION:
URL:http://hgvk.hu/event/konyvtari-konyvklub/
ATTACH;FMTTYPE=image/jpeg:http://hgvk.hu/wp-content/uploads/2024/04/Konyvklub-aprilis-scaled.jpg
END:VEVENT
BEGIN:VEVENT
DTSTART;TZID=Europe/Budapest:20240408T080000
DTEND;TZID=Europe/Budapest:20240419T170000
DTSTAMP:20260421T100013
CREATED:20240417T095401Z
LAST-MODIFIED:20240417T095401Z
UID:2462-1712563200-1713546000@hgvk.hu
SUMMARY:Szabó Magda Emlékkiállítás
DESCRIPTION:
URL:http://hgvk.hu/event/szabo-magda-emlekkiallitas/
ATTACH;FMTTYPE=image/jpeg:http://hgvk.hu/wp-content/uploads/2024/04/Szabo-Magda.jpg
END:VEVENT
END:VCALENDAR